BEGIN:VCALENDAR
VERSION:2.0
PRODID:-//horsealert.local//NONSGML kigkonsult.se iCalcreator 2.10.5//
CALSCALE:GREGORIAN
X-WR-TIMEZONE:Europe/Dublin
BEGIN:VTIMEZONE
TZID:Etc/GMT-1
BEGIN:STANDARD
DTSTART:20010101T000000
TZOFFSETFROM:+0100
TZOFFSETTO:+0100
TZNAME:GMT +01:00
END:STANDARD
END:VTIMEZONE
BEGIN:VEVENT
UID:20260425T175523CEST-1930uNXnEK@horsealert.local
DTSTAMP:20260425T150423Z
CATEGORIES:Horse Alerts
DESCRIPTION:Betfred The Bonus King E.B.F. Daisy Warwick Stakes \(Fillies\' 
 Listed\)
DTSTART:20130504T142000
LOCATION:England
SUMMARY:Horse Racing:Betfred The Bonus King E.B.F. Daisy Warwick Stakes \(F
 illies\' Listed\)
END:VEVENT
END:VCALENDAR
