BEGIN:VCALENDAR
VERSION:2.0
PRODID:-//horsealert.local//NONSGML kigkonsult.se iCalcreator 2.10.5//
CALSCALE:GREGORIAN
X-WR-TIMEZONE:Europe/Dublin
BEGIN:VTIMEZONE
TZID:Etc/GMT-1
BEGIN:STANDARD
DTSTART:20010101T000000
TZOFFSETFROM:+0100
TZOFFSETTO:+0100
TZNAME:GMT +01:00
END:STANDARD
END:VTIMEZONE
BEGIN:VEVENT
UID:20260425T194440CEST-5959V8W0VC@horsealert.local
DTSTAMP:20260425T170440Z
CATEGORIES:Horse Alerts
DESCRIPTION:Point To Point Evening 16th May Maiden Hurdle
DTSTART:20130502T193000
LOCATION:Eire
SUMMARY:Horse Racing:Point To Point Evening 16th May Maiden Hurdle
END:VEVENT
END:VCALENDAR
