BEGIN:VCALENDAR
VERSION:2.0
PRODID:-//horsealert.local//NONSGML kigkonsult.se iCalcreator 2.10.5//
CALSCALE:GREGORIAN
X-WR-TIMEZONE:Europe/Dublin
BEGIN:VTIMEZONE
TZID:Etc/GMT-1
BEGIN:STANDARD
DTSTART:20010101T000000
TZOFFSETFROM:+0100
TZOFFSETTO:+0100
TZNAME:GMT +01:00
END:STANDARD
END:VTIMEZONE
BEGIN:VEVENT
UID:20260425T175616CEST-2683H4Gbtj@horsealert.local
DTSTAMP:20260425T150416Z
CATEGORIES:Horse Alerts
DESCRIPTION:Champions League Red Card Refund At BetVictor.com Mares\' Novic
 es\' Hurdle
DTSTART:20130501T165500
LOCATION:England
SUMMARY:Horse Racing:Champions League Red Card Refund At BetVictor.com Mare
 s\' Novices\' Hurdle
END:VEVENT
END:VCALENDAR
