BEGIN:VCALENDAR
VERSION:2.0
PRODID:-//horsealert.local//NONSGML kigkonsult.se iCalcreator 2.10.5//
CALSCALE:GREGORIAN
X-WR-TIMEZONE:Europe/Dublin
BEGIN:VTIMEZONE
TZID:Etc/GMT-1
BEGIN:STANDARD
DTSTART:20010101T000000
TZOFFSETFROM:+0100
TZOFFSETTO:+0100
TZNAME:GMT +01:00
END:STANDARD
END:VTIMEZONE
BEGIN:VEVENT
UID:20260425T175416CEST-7966bbKapm@horsealert.local
DTSTAMP:20260425T150416Z
CATEGORIES:Horse Alerts
DESCRIPTION:New Customers Commission Free 1st Month Maiden Fillies\' Stakes
DTSTART:20130501T182500
LOCATION:England
SUMMARY:Horse Racing:New Customers Commission Free 1st Month Maiden Fillies
 \' Stakes
END:VEVENT
END:VCALENDAR
