BEGIN:VCALENDAR
VERSION:2.0
PRODID:-//horsealert.local//NONSGML kigkonsult.se iCalcreator 2.10.5//
CALSCALE:GREGORIAN
X-WR-TIMEZONE:Europe/Dublin
BEGIN:VTIMEZONE
TZID:Etc/GMT-1
BEGIN:STANDARD
DTSTART:20010101T000000
TZOFFSETFROM:+0100
TZOFFSETTO:+0100
TZNAME:GMT +01:00
END:STANDARD
END:VTIMEZONE
BEGIN:VEVENT
UID:20260425T194548CEST-72698nUXSF@horsealert.local
DTSTAMP:20260425T170448Z
CATEGORIES:Horse Alerts
DESCRIPTION:businessonlinegroup.co.uk Investment For Online Businesses Mare
 s\' Maiden Hurdle
DTSTART:20130430T184500
LOCATION:England
SUMMARY:Horse Racing:businessonlinegroup.co.uk Investment For Online Busine
 sses Mares\' Maiden Hurdle
END:VEVENT
END:VCALENDAR
