BEGIN:VCALENDAR
VERSION:2.0
PRODID:-//horsealert.local//NONSGML kigkonsult.se iCalcreator 2.10.5//
CALSCALE:GREGORIAN
X-WR-TIMEZONE:Europe/Dublin
BEGIN:VTIMEZONE
TZID:Etc/GMT-1
BEGIN:STANDARD
DTSTART:20010101T000000
TZOFFSETFROM:+0100
TZOFFSETTO:+0100
TZNAME:GMT +01:00
END:STANDARD
END:VTIMEZONE
BEGIN:VEVENT
UID:20260425T194626CEST-7342CV89Up@horsealert.local
DTSTAMP:20260425T170426Z
CATEGORIES:Horse Alerts
DESCRIPTION:Welcome Back To The Racecourse Of The Year Maiden Hurdle
DTSTART:20130430T185500
LOCATION:Eire
SUMMARY:Horse Racing:Welcome Back To The Racecourse Of The Year Maiden Hurd
 le
END:VEVENT
END:VCALENDAR
