BEGIN:VCALENDAR
VERSION:2.0
PRODID:-//horsealert.local//NONSGML kigkonsult.se iCalcreator 2.10.5//
CALSCALE:GREGORIAN
X-WR-TIMEZONE:Europe/Dublin
BEGIN:VTIMEZONE
TZID:Etc/GMT-1
BEGIN:STANDARD
DTSTART:20010101T000000
TZOFFSETFROM:+0100
TZOFFSETTO:+0100
TZNAME:GMT +01:00
END:STANDARD
END:VTIMEZONE
BEGIN:VEVENT
UID:20260425T194455CEST-3540D9Vknw@horsealert.local
DTSTAMP:20260425T170455Z
CATEGORIES:Horse Alerts
DESCRIPTION:Newcomers Day On 19th May Conditional Jockeys\' Handicap Chase
DTSTART:20130427T164500
LOCATION:England
SUMMARY:Horse Racing:Newcomers Day On 19th May Conditional Jockeys\' Handic
 ap Chase
END:VEVENT
END:VCALENDAR
