BEGIN:VCALENDAR
VERSION:2.0
PRODID:-//horsealert.local//NONSGML kigkonsult.se iCalcreator 2.10.5//
CALSCALE:GREGORIAN
X-WR-TIMEZONE:Europe/Dublin
BEGIN:VTIMEZONE
TZID:Etc/GMT-1
BEGIN:STANDARD
DTSTART:20010101T000000
TZOFFSETFROM:+0100
TZOFFSETTO:+0100
TZNAME:GMT +01:00
END:STANDARD
END:VTIMEZONE
BEGIN:VEVENT
UID:20260425T194402CEST-9424ufOu25@horsealert.local
DTSTAMP:20260425T170402Z
CATEGORIES:Horse Alerts
DESCRIPTION:Gowran Gathering Wednesday 14th August \(C & G\) Maiden
DTSTART:20130428T174000
LOCATION:Eire
SUMMARY:Horse Racing:Gowran Gathering Wednesday 14th August \(C & G\) Maide
 n
END:VEVENT
END:VCALENDAR
