BEGIN:VCALENDAR
VERSION:2.0
PRODID:-//horsealert.local//NONSGML kigkonsult.se iCalcreator 2.10.5//
CALSCALE:GREGORIAN
X-WR-TIMEZONE:Europe/Dublin
BEGIN:VTIMEZONE
TZID:Etc/GMT-1
BEGIN:STANDARD
DTSTART:20010101T000000
TZOFFSETFROM:+0100
TZOFFSETTO:+0100
TZNAME:GMT +01:00
END:STANDARD
END:VTIMEZONE
BEGIN:VEVENT
UID:20260425T194438CEST-3134L1VBTw@horsealert.local
DTSTAMP:20260425T170438Z
CATEGORIES:Horse Alerts
DESCRIPTION:E.B.F totepool.com King Richard III Stakes \(Formerly The Leice
 stershire Stakes\) \(Listed\)
DTSTART:20130427T155500
LOCATION:England
SUMMARY:Horse Racing:E.B.F totepool.com King Richard III Stakes \(Formerly 
 The Leicestershire Stakes\) \(Listed\)
END:VEVENT
END:VCALENDAR
