BEGIN:VCALENDAR
VERSION:2.0
PRODID:-//horsealert.local//NONSGML kigkonsult.se iCalcreator 2.10.5//
CALSCALE:GREGORIAN
X-WR-TIMEZONE:Europe/Dublin
BEGIN:VTIMEZONE
TZID:Etc/GMT-1
BEGIN:STANDARD
DTSTART:20010101T000000
TZOFFSETFROM:+0100
TZOFFSETTO:+0100
TZNAME:GMT +01:00
END:STANDARD
END:VTIMEZONE
BEGIN:VEVENT
UID:20260425T194417CEST-3175gvF5va@horsealert.local
DTSTAMP:20260425T170417Z
CATEGORIES:Horse Alerts
DESCRIPTION:Bet totescoop6 At totepool.com Median Auction Maiden Stakes
DTSTART:20130427T144500
LOCATION:England
SUMMARY:Horse Racing:Bet totescoop6 At totepool.com Median Auction Maiden S
 takes
END:VEVENT
END:VCALENDAR
