BEGIN:VCALENDAR
VERSION:2.0
PRODID:-//horsealert.local//NONSGML kigkonsult.se iCalcreator 2.10.5//
CALSCALE:GREGORIAN
X-WR-TIMEZONE:Europe/Dublin
BEGIN:VTIMEZONE
TZID:Etc/GMT-1
BEGIN:STANDARD
DTSTART:20010101T000000
TZOFFSETFROM:+0100
TZOFFSETTO:+0100
TZNAME:GMT +01:00
END:STANDARD
END:VTIMEZONE
BEGIN:VEVENT
UID:20260425T194512CEST-8884m54DMH@horsealert.local
DTSTAMP:20260425T170412Z
CATEGORIES:Horse Alerts
DESCRIPTION:Lonmar Global Risks Novices\' Limited Handicap Chase \(For The 
 Mark Black Memorial Trophy\)
DTSTART:20130426T160000
LOCATION:Scotland
SUMMARY:Horse Racing:Lonmar Global Risks Novices\' Limited Handicap Chase \
 (For The Mark Black Memorial Trophy\)
END:VEVENT
END:VCALENDAR
