BEGIN:VCALENDAR
VERSION:2.0
PRODID:-//horsealert.local//NONSGML kigkonsult.se iCalcreator 2.10.5//
CALSCALE:GREGORIAN
X-WR-TIMEZONE:Europe/Dublin
BEGIN:VTIMEZONE
TZID:Etc/GMT-1
BEGIN:STANDARD
DTSTART:20010101T000000
TZOFFSETFROM:+0100
TZOFFSETTO:+0100
TZNAME:GMT +01:00
END:STANDARD
END:VTIMEZONE
BEGIN:VEVENT
UID:20260425T194525CEST-3042pMGP4v@horsealert.local
DTSTAMP:20260425T170425Z
CATEGORIES:Horse Alerts
DESCRIPTION:Try Crabbie\'s Simply Scrumptious Strawberry & Lime Handicap Hu
 rdle
DTSTART:20130425T144500
LOCATION:Scotland
SUMMARY:Horse Racing:Try Crabbie\'s Simply Scrumptious Strawberry & Lime Ha
 ndicap Hurdle
END:VEVENT
END:VCALENDAR
