BEGIN:VCALENDAR
VERSION:2.0
PRODID:-//horsealert.local//NONSGML kigkonsult.se iCalcreator 2.10.5//
CALSCALE:GREGORIAN
X-WR-TIMEZONE:Europe/Dublin
BEGIN:VTIMEZONE
TZID:Etc/GMT-1
BEGIN:STANDARD
DTSTART:20010101T000000
TZOFFSETFROM:+0100
TZOFFSETTO:+0100
TZNAME:GMT +01:00
END:STANDARD
END:VTIMEZONE
BEGIN:VEVENT
UID:20260425T194627CEST-3676KCzzmt@horsealert.local
DTSTAMP:20260425T170427Z
CATEGORIES:Horse Alerts
DESCRIPTION:Wag Hammond C & D South West Novices\' Handicap Hurdle
DTSTART:20130424T165000
LOCATION:England
SUMMARY:Horse Racing:Wag Hammond C & D South West Novices\' Handicap Hurdle
END:VEVENT
END:VCALENDAR
