BEGIN:VCALENDAR
VERSION:2.0
PRODID:-//horsealert.local//NONSGML kigkonsult.se iCalcreator 2.10.5//
CALSCALE:GREGORIAN
X-WR-TIMEZONE:Europe/Dublin
BEGIN:VTIMEZONE
TZID:Etc/GMT-1
BEGIN:STANDARD
DTSTART:20010101T000000
TZOFFSETFROM:+0100
TZOFFSETTO:+0100
TZNAME:GMT +01:00
END:STANDARD
END:VTIMEZONE
BEGIN:VEVENT
UID:20260425T194431CEST-5728E6N8GX@horsealert.local
DTSTAMP:20260425T170431Z
CATEGORIES:Horse Alerts
DESCRIPTION:Attheraces.com Flat Race
DTSTART:20130424T191500
LOCATION:Eire
SUMMARY:Horse Racing:Attheraces.com Flat Race
END:VEVENT
END:VCALENDAR
