BEGIN:VCALENDAR
VERSION:2.0
PRODID:-//horsealert.local//NONSGML kigkonsult.se iCalcreator 2.10.5//
CALSCALE:GREGORIAN
X-WR-TIMEZONE:Europe/Dublin
BEGIN:VTIMEZONE
TZID:Etc/GMT-1
BEGIN:STANDARD
DTSTART:20010101T000000
TZOFFSETFROM:+0100
TZOFFSETTO:+0100
TZNAME:GMT +01:00
END:STANDARD
END:VTIMEZONE
BEGIN:VEVENT
UID:20260425T194558CEST-1027Ba35Pk@horsealert.local
DTSTAMP:20260425T170458Z
CATEGORIES:Horse Alerts
DESCRIPTION:Investec Property Investments City And Suburban Handicap
DTSTART:20130424T155500
LOCATION:England
SUMMARY:Horse Racing:Investec Property Investments City And Suburban Handic
 ap
END:VEVENT
END:VCALENDAR
