BEGIN:VCALENDAR
VERSION:2.0
PRODID:-//horsealert.local//NONSGML kigkonsult.se iCalcreator 2.10.5//
CALSCALE:GREGORIAN
X-WR-TIMEZONE:Europe/Dublin
BEGIN:VTIMEZONE
TZID:Etc/GMT-1
BEGIN:STANDARD
DTSTART:20010101T000000
TZOFFSETFROM:+0100
TZOFFSETTO:+0100
TZNAME:GMT +01:00
END:STANDARD
END:VTIMEZONE
BEGIN:VEVENT
UID:20260425T194527CEST-0122xxdvDw@horsealert.local
DTSTAMP:20260425T170427Z
CATEGORIES:Horse Alerts
DESCRIPTION:Birthday Package - New For 2013 Handicap
DTSTART:20130422T164000
LOCATION:England
SUMMARY:Horse Racing:Birthday Package - New For 2013 Handicap
END:VEVENT
END:VCALENDAR
