BEGIN:VCALENDAR
VERSION:2.0
PRODID:-//horsealert.local//NONSGML kigkonsult.se iCalcreator 2.10.5//
CALSCALE:GREGORIAN
X-WR-TIMEZONE:Europe/Dublin
BEGIN:VTIMEZONE
TZID:Etc/GMT-1
BEGIN:STANDARD
DTSTART:20010101T000000
TZOFFSETFROM:+0100
TZOFFSETTO:+0100
TZNAME:GMT +01:00
END:STANDARD
END:VTIMEZONE
BEGIN:VEVENT
UID:20260425T194422CEST-8049ve6rxv@horsealert.local
DTSTAMP:20260425T170422Z
CATEGORIES:Horse Alerts
DESCRIPTION:Get The BetVictor App/British Stallion Studs E.B.F. Maiden Stak
 es
DTSTART:20130422T155000
LOCATION:England
SUMMARY:Horse Racing:Get The BetVictor App/British Stallion Studs E.B.F. Ma
 iden Stakes
END:VEVENT
END:VCALENDAR
