BEGIN:VCALENDAR
VERSION:2.0
PRODID:-//horsealert.local//NONSGML kigkonsult.se iCalcreator 2.10.5//
CALSCALE:GREGORIAN
X-WR-TIMEZONE:Europe/Dublin
BEGIN:VTIMEZONE
TZID:Etc/GMT-1
BEGIN:STANDARD
DTSTART:20010101T000000
TZOFFSETFROM:+0100
TZOFFSETTO:+0100
TZNAME:GMT +01:00
END:STANDARD
END:VTIMEZONE
BEGIN:VEVENT
UID:20260425T194632CEST-8325gHFGtg@horsealert.local
DTSTAMP:20260425T170432Z
CATEGORIES:Horse Alerts
DESCRIPTION:Sponsor A Race At Tramore Racecourse \(C & G\) \(Pro/Am\) Flat 
 Race
DTSTART:20130420T175000
LOCATION:Eire
SUMMARY:Horse Racing:Sponsor A Race At Tramore Racecourse \(C & G\) \(Pro/A
 m\) Flat Race
END:VEVENT
END:VCALENDAR
