BEGIN:VCALENDAR
VERSION:2.0
PRODID:-//horsealert.local//NONSGML kigkonsult.se iCalcreator 2.10.5//
CALSCALE:GREGORIAN
X-WR-TIMEZONE:Europe/Dublin
BEGIN:VTIMEZONE
TZID:Etc/GMT-1
BEGIN:STANDARD
DTSTART:20010101T000000
TZOFFSETFROM:+0100
TZOFFSETTO:+0100
TZNAME:GMT +01:00
END:STANDARD
END:VTIMEZONE
BEGIN:VEVENT
UID:20260425T194406CEST-8870FcIRHE@horsealert.local
DTSTAMP:20260425T170406Z
CATEGORIES:Horse Alerts
DESCRIPTION:thirskracecourse.net For Discounted Tickets Online Handicap \(D
 iv 2\)
DTSTART:20130420T181000
LOCATION:England
SUMMARY:Horse Racing:thirskracecourse.net For Discounted Tickets Online Han
 dicap \(Div 2\)
END:VEVENT
END:VCALENDAR
