BEGIN:VCALENDAR
VERSION:2.0
PRODID:-//horsealert.local//NONSGML kigkonsult.se iCalcreator 2.10.5//
CALSCALE:GREGORIAN
X-WR-TIMEZONE:Europe/Dublin
BEGIN:VTIMEZONE
TZID:Etc/GMT-1
BEGIN:STANDARD
DTSTART:20010101T000000
TZOFFSETFROM:+0100
TZOFFSETTO:+0100
TZNAME:GMT +01:00
END:STANDARD
END:VTIMEZONE
BEGIN:VEVENT
UID:20260425T194322CEST-6046k40vUV@horsealert.local
DTSTAMP:20260425T170422Z
CATEGORIES:Horse Alerts
DESCRIPTION:Dubai Duty Free Tennis Championships Maiden Stakes \(Str\)
DTSTART:20130420T160500
LOCATION:England
SUMMARY:Horse Racing:Dubai Duty Free Tennis Championships Maiden Stakes \(S
 tr\)
END:VEVENT
END:VCALENDAR
