BEGIN:VCALENDAR
VERSION:2.0
PRODID:-//horsealert.local//NONSGML kigkonsult.se iCalcreator 2.10.5//
CALSCALE:GREGORIAN
X-WR-TIMEZONE:Europe/Dublin
BEGIN:VTIMEZONE
TZID:Etc/GMT-1
BEGIN:STANDARD
DTSTART:20010101T000000
TZOFFSETFROM:+0100
TZOFFSETTO:+0100
TZNAME:GMT +01:00
END:STANDARD
END:VTIMEZONE
BEGIN:VEVENT
UID:20260425T194317CEST-4900wkDw5O@horsealert.local
DTSTAMP:20260425T170417Z
CATEGORIES:Horse Alerts
DESCRIPTION:Broomhill Point Handicap Chase \(0-116\)
DTSTART:20130419T191000
LOCATION:Eire
SUMMARY:Horse Racing:Broomhill Point Handicap Chase \(0-116\)
END:VEVENT
END:VCALENDAR
