BEGIN:VCALENDAR
VERSION:2.0
PRODID:-//horsealert.local//NONSGML kigkonsult.se iCalcreator 2.10.5//
CALSCALE:GREGORIAN
X-WR-TIMEZONE:Europe/Dublin
BEGIN:VTIMEZONE
TZID:Etc/GMT-1
BEGIN:STANDARD
DTSTART:20010101T000000
TZOFFSETFROM:+0100
TZOFFSETTO:+0100
TZNAME:GMT +01:00
END:STANDARD
END:VTIMEZONE
BEGIN:VEVENT
UID:20260425T213809CEST-1858wU9xNz@horsealert.local
DTSTAMP:20260425T190409Z
CATEGORIES:Horse Alerts
DESCRIPTION:European Breeders\' Fund/Thoroughbred Breeders\' Association Ma
 res\' Novices\' Chase Finale \(Listed Handicap\)
DTSTART:20130418T143500
LOCATION:England
SUMMARY:Horse Racing:European Breeders\' Fund/Thoroughbred Breeders\' Assoc
 iation Mares\' Novices\' Chase Finale \(Listed Handicap\)
END:VEVENT
END:VCALENDAR
