BEGIN:VCALENDAR
VERSION:2.0
PRODID:-//horsealert.local//NONSGML kigkonsult.se iCalcreator 2.10.5//
CALSCALE:GREGORIAN
X-WR-TIMEZONE:Europe/Dublin
BEGIN:VTIMEZONE
TZID:Etc/GMT-1
BEGIN:STANDARD
DTSTART:20010101T000000
TZOFFSETFROM:+0100
TZOFFSETTO:+0100
TZNAME:GMT +01:00
END:STANDARD
END:VTIMEZONE
BEGIN:VEVENT
UID:20260425T194418CEST-2532DRwduu@horsealert.local
DTSTAMP:20260425T170418Z
CATEGORIES:Horse Alerts
DESCRIPTION:Hen & Stag Packages At Dundalk Stadium Handicap \(50-80\)
DTSTART:20130417T192000
LOCATION:Eire
SUMMARY:Horse Racing:Hen & Stag Packages At Dundalk Stadium Handicap \(50-8
 0\)
END:VEVENT
END:VCALENDAR
