BEGIN:VCALENDAR
VERSION:2.0
PRODID:-//horsealert.local//NONSGML kigkonsult.se iCalcreator 2.10.5//
CALSCALE:GREGORIAN
X-WR-TIMEZONE:Europe/Dublin
BEGIN:VTIMEZONE
TZID:Etc/GMT-1
BEGIN:STANDARD
DTSTART:20010101T000000
TZOFFSETFROM:+0100
TZOFFSETTO:+0100
TZNAME:GMT +01:00
END:STANDARD
END:VTIMEZONE
BEGIN:VEVENT
UID:20260425T194552CEST-825359F6M3@horsealert.local
DTSTAMP:20260425T170452Z
CATEGORIES:Horse Alerts
DESCRIPTION:Ross Nugent Foundation Handicap
DTSTART:20130415T184500
LOCATION:Eire
SUMMARY:Horse Racing:Ross Nugent Foundation Handicap
END:VEVENT
END:VCALENDAR
