BEGIN:VCALENDAR
VERSION:2.0
PRODID:-//horsealert.local//NONSGML kigkonsult.se iCalcreator 2.10.5//
CALSCALE:GREGORIAN
X-WR-TIMEZONE:Europe/Dublin
BEGIN:VTIMEZONE
TZID:Etc/GMT-1
BEGIN:STANDARD
DTSTART:20010101T000000
TZOFFSETFROM:+0100
TZOFFSETTO:+0100
TZNAME:GMT +01:00
END:STANDARD
END:VTIMEZONE
BEGIN:VEVENT
UID:20260425T194551CEST-9131g9ksvN@horsealert.local
DTSTAMP:20260425T170451Z
CATEGORIES:Horse Alerts
DESCRIPTION:Lincolnshire Rural Charities Handicap Chase \(Sunday 5k Bonus R
 ace\)
DTSTART:20130414T164000
LOCATION:England
SUMMARY:Horse Racing:Lincolnshire Rural Charities Handicap Chase \(Sunday 5
 k Bonus Race\)
END:VEVENT
END:VCALENDAR
