BEGIN:VCALENDAR
VERSION:2.0
PRODID:-//horsealert.local//NONSGML kigkonsult.se iCalcreator 2.10.5//
CALSCALE:GREGORIAN
X-WR-TIMEZONE:Europe/Dublin
BEGIN:VTIMEZONE
TZID:Etc/GMT-1
BEGIN:STANDARD
DTSTART:20010101T000000
TZOFFSETFROM:+0100
TZOFFSETTO:+0100
TZNAME:GMT +01:00
END:STANDARD
END:VTIMEZONE
BEGIN:VEVENT
UID:20260425T194506CEST-6572DR04Ir@horsealert.local
DTSTAMP:20260425T170406Z
CATEGORIES:Horse Alerts
DESCRIPTION:Leopardstown 1\,000 Guineas Trial Stakes \(Fillies\' Group 3\)
DTSTART:20130414T154000
LOCATION:Eire
SUMMARY:Horse Racing:Leopardstown 1\,000 Guineas Trial Stakes \(Fillies\' G
 roup 3\)
END:VEVENT
END:VCALENDAR
