BEGIN:VCALENDAR
VERSION:2.0
PRODID:-//horsealert.local//NONSGML kigkonsult.se iCalcreator 2.10.5//
CALSCALE:GREGORIAN
X-WR-TIMEZONE:Europe/Dublin
BEGIN:VTIMEZONE
TZID:Etc/GMT-1
BEGIN:STANDARD
DTSTART:20010101T000000
TZOFFSETFROM:+0100
TZOFFSETTO:+0100
TZNAME:GMT +01:00
END:STANDARD
END:VTIMEZONE
BEGIN:VEVENT
UID:20260425T194537CEST-2572DfI0up@horsealert.local
DTSTAMP:20260425T170437Z
CATEGORIES:Horse Alerts
DESCRIPTION:bet365 Doncaster Mile Stakes \(Listed\) \(Rnd\)
DTSTART:20130413T142000
LOCATION:England
SUMMARY:Horse Racing:bet365 Doncaster Mile Stakes \(Listed\) \(Rnd\)
END:VEVENT
END:VCALENDAR
