BEGIN:VCALENDAR
VERSION:2.0
PRODID:-//horsealert.local//NONSGML kigkonsult.se iCalcreator 2.10.5//
CALSCALE:GREGORIAN
X-WR-TIMEZONE:Europe/Dublin
BEGIN:VTIMEZONE
TZID:Etc/GMT-1
BEGIN:STANDARD
DTSTART:20010101T000000
TZOFFSETFROM:+0100
TZOFFSETTO:+0100
TZNAME:GMT +01:00
END:STANDARD
END:VTIMEZONE
BEGIN:VEVENT
UID:20260425T213806CEST-2723mSZSVb@horsealert.local
DTSTAMP:20260425T190406Z
CATEGORIES:Horse Alerts
DESCRIPTION:Wetherby Racecourse Family Day - Sunday 28th April Standard Ope
 n NH Flat Race
DTSTART:20130412T181000
LOCATION:England
SUMMARY:Horse Racing:Wetherby Racecourse Family Day - Sunday 28th April Sta
 ndard Open NH Flat Race
END:VEVENT
END:VCALENDAR
