BEGIN:VCALENDAR
VERSION:2.0
PRODID:-//horsealert.local//NONSGML kigkonsult.se iCalcreator 2.10.5//
CALSCALE:GREGORIAN
X-WR-TIMEZONE:Europe/Dublin
BEGIN:VTIMEZONE
TZID:Etc/GMT-1
BEGIN:STANDARD
DTSTART:20010101T000000
TZOFFSETFROM:+0100
TZOFFSETTO:+0100
TZNAME:GMT +01:00
END:STANDARD
END:VTIMEZONE
BEGIN:VEVENT
UID:20260425T194554CEST-0923ev30bf@horsealert.local
DTSTAMP:20260425T170454Z
CATEGORIES:Horse Alerts
DESCRIPTION:Yorkshire Post Ladies\' Evening - 30th May Handicap Hurdle
DTSTART:20130412T160000
LOCATION:England
SUMMARY:Horse Racing:Yorkshire Post Ladies\' Evening - 30th May Handicap Hu
 rdle
END:VEVENT
END:VCALENDAR
