BEGIN:VCALENDAR
VERSION:2.0
PRODID:-//horsealert.local//NONSGML kigkonsult.se iCalcreator 2.10.5//
CALSCALE:GREGORIAN
X-WR-TIMEZONE:Europe/Dublin
BEGIN:VTIMEZONE
TZID:Etc/GMT-1
BEGIN:STANDARD
DTSTART:20010101T000000
TZOFFSETFROM:+0100
TZOFFSETTO:+0100
TZNAME:GMT +01:00
END:STANDARD
END:VTIMEZONE
BEGIN:VEVENT
UID:20260425T194537CEST-43036Pu0Sh@horsealert.local
DTSTAMP:20260425T170437Z
CATEGORIES:Horse Alerts
DESCRIPTION:Land Value Alliances \(LVA\) \'Newcomers\' Standard Open NH Fla
 t Race \(Div 1\)
DTSTART:20130411T170000
LOCATION:England
SUMMARY:Horse Racing:Land Value Alliances \(LVA\) \'Newcomers\' Standard Op
 en NH Flat Race \(Div 1\)
END:VEVENT
END:VCALENDAR
