BEGIN:VCALENDAR
VERSION:2.0
PRODID:-//horsealert.local//NONSGML kigkonsult.se iCalcreator 2.10.5//
CALSCALE:GREGORIAN
X-WR-TIMEZONE:Europe/Dublin
BEGIN:VTIMEZONE
TZID:Etc/GMT-1
BEGIN:STANDARD
DTSTART:20010101T000000
TZOFFSETFROM:+0100
TZOFFSETTO:+0100
TZNAME:GMT +01:00
END:STANDARD
END:VTIMEZONE
BEGIN:VEVENT
UID:20260425T194510CEST-3325lpngUv@horsealert.local
DTSTAMP:20260425T170410Z
CATEGORIES:Horse Alerts
DESCRIPTION:Spring Fair 18th & 19th May At Fontwell Handicap Hurdle
DTSTART:20130411T155000
LOCATION:England
SUMMARY:Horse Racing:Spring Fair 18th & 19th May At Fontwell Handicap Hurdl
 e
END:VEVENT
END:VCALENDAR
