BEGIN:VCALENDAR
VERSION:2.0
PRODID:-//horsealert.local//NONSGML kigkonsult.se iCalcreator 2.10.5//
CALSCALE:GREGORIAN
X-WR-TIMEZONE:Europe/Dublin
BEGIN:VTIMEZONE
TZID:Etc/GMT-1
BEGIN:STANDARD
DTSTART:20010101T000000
TZOFFSETFROM:+0100
TZOFFSETTO:+0100
TZNAME:GMT +01:00
END:STANDARD
END:VTIMEZONE
BEGIN:VEVENT
UID:20260425T194535CEST-7841epp7Pe@horsealert.local
DTSTAMP:20260425T170435Z
CATEGORIES:Horse Alerts
DESCRIPTION:11th June Fontwell Park Business Club Novices\' Chase
DTSTART:20130411T152000
LOCATION:England
SUMMARY:Horse Racing:11th June Fontwell Park Business Club Novices\' Chase
END:VEVENT
END:VCALENDAR
