BEGIN:VCALENDAR
VERSION:2.0
PRODID:-//horsealert.local//NONSGML kigkonsult.se iCalcreator 2.10.5//
CALSCALE:GREGORIAN
X-WR-TIMEZONE:Europe/Dublin
BEGIN:VTIMEZONE
TZID:Etc/GMT-1
BEGIN:STANDARD
DTSTART:20010101T000000
TZOFFSETFROM:+0100
TZOFFSETTO:+0100
TZNAME:GMT +01:00
END:STANDARD
END:VTIMEZONE
BEGIN:VEVENT
UID:20260425T194624CEST-64376aFS8r@horsealert.local
DTSTAMP:20260425T170424Z
CATEGORIES:Horse Alerts
DESCRIPTION:Betfred Home Of Goals Galore E.B.F. Maiden Stakes
DTSTART:20130410T141000
LOCATION:England
SUMMARY:Horse Racing:Betfred Home Of Goals Galore E.B.F. Maiden Stakes
END:VEVENT
END:VCALENDAR
