BEGIN:VCALENDAR
VERSION:2.0
PRODID:-//horsealert.local//NONSGML kigkonsult.se iCalcreator 2.10.5//
CALSCALE:GREGORIAN
X-WR-TIMEZONE:Europe/Dublin
BEGIN:VTIMEZONE
TZID:Etc/GMT-1
BEGIN:STANDARD
DTSTART:20010101T000000
TZOFFSETFROM:+0100
TZOFFSETTO:+0100
TZNAME:GMT +01:00
END:STANDARD
END:VTIMEZONE
BEGIN:VEVENT
UID:20260425T214323CEST-2386pfzHts@horsealert.local
DTSTAMP:20260425T190423Z
CATEGORIES:Horse Alerts
DESCRIPTION:Your Guide To Lingfield At lingfieldracecoursetips.co.uk Handic
 ap \(Div 2\)
DTSTART:20130410T143000
LOCATION:England
SUMMARY:Horse Racing:Your Guide To Lingfield At lingfieldracecoursetips.co.
 uk Handicap \(Div 2\)
END:VEVENT
END:VCALENDAR
