BEGIN:VCALENDAR
VERSION:2.0
PRODID:-//horsealert.local//NONSGML kigkonsult.se iCalcreator 2.10.5//
CALSCALE:GREGORIAN
X-WR-TIMEZONE:Europe/Dublin
BEGIN:VTIMEZONE
TZID:Etc/GMT-1
BEGIN:STANDARD
DTSTART:20010101T000000
TZOFFSETFROM:+0100
TZOFFSETTO:+0100
TZNAME:GMT +01:00
END:STANDARD
END:VTIMEZONE
BEGIN:VEVENT
UID:20260425T194439CEST-1315a6ntUc@horsealert.local
DTSTAMP:20260425T170439Z
CATEGORIES:Horse Alerts
DESCRIPTION:Henry Shefflin & Ashgrove Stables Mooncoin Handicap Hurdle \(81
 -130\)
DTSTART:20130409T174500
LOCATION:Eire
SUMMARY:Horse Racing:Henry Shefflin & Ashgrove Stables Mooncoin Handicap Hu
 rdle \(81-130\)
END:VEVENT
END:VCALENDAR
