BEGIN:VCALENDAR
VERSION:2.0
PRODID:-//horsealert.local//NONSGML kigkonsult.se iCalcreator 2.10.5//
CALSCALE:GREGORIAN
X-WR-TIMEZONE:Europe/Dublin
BEGIN:VTIMEZONE
TZID:Etc/GMT-1
BEGIN:STANDARD
DTSTART:20010101T000000
TZOFFSETFROM:+0100
TZOFFSETTO:+0100
TZNAME:GMT +01:00
END:STANDARD
END:VTIMEZONE
BEGIN:VEVENT
UID:20260425T194554CEST-8270fZBrUm@horsealert.local
DTSTAMP:20260425T170454Z
CATEGORIES:Horse Alerts
DESCRIPTION:Follow Us On Twitter At StarSports_Bet Standard Open NH Flat Ra
 ce
DTSTART:20130409T172500
LOCATION:England
SUMMARY:Horse Racing:Follow Us On Twitter At StarSports_Bet Standard Open N
 H Flat Race
END:VEVENT
END:VCALENDAR
