BEGIN:VCALENDAR
VERSION:2.0
PRODID:-//horsealert.local//NONSGML kigkonsult.se iCalcreator 2.10.5//
CALSCALE:GREGORIAN
X-WR-TIMEZONE:Europe/Dublin
BEGIN:VTIMEZONE
TZID:Etc/GMT-1
BEGIN:STANDARD
DTSTART:20010101T000000
TZOFFSETFROM:+0100
TZOFFSETTO:+0100
TZNAME:GMT +01:00
END:STANDARD
END:VTIMEZONE
BEGIN:VEVENT
UID:20260425T194617CEST-4415Gv99S5@horsealert.local
DTSTAMP:20260425T170417Z
CATEGORIES:Horse Alerts
DESCRIPTION:John Smith\'s Topham Chase \(Grade 3 Handicap\) \(National Cour
 se\)
DTSTART:20130405T154000
LOCATION:England
SUMMARY:Horse Racing:John Smith\'s Topham Chase \(Grade 3 Handicap\) \(Nati
 onal Course\)
END:VEVENT
END:VCALENDAR
