BEGIN:VCALENDAR
VERSION:2.0
PRODID:-//horsealert.local//NONSGML kigkonsult.se iCalcreator 2.10.5//
CALSCALE:GREGORIAN
X-WR-TIMEZONE:Europe/Dublin
BEGIN:VTIMEZONE
TZID:Etc/GMT-1
BEGIN:STANDARD
DTSTART:20010101T000000
TZOFFSETFROM:+0100
TZOFFSETTO:+0100
TZNAME:GMT +01:00
END:STANDARD
END:VTIMEZONE
BEGIN:VEVENT
UID:20260425T194329CEST-1926cA6FuR@horsealert.local
DTSTAMP:20260425T170429Z
CATEGORIES:Horse Alerts
DESCRIPTION:Ronnie Wallace Hunters\' Chase
DTSTART:20130404T170500
LOCATION:England
SUMMARY:Horse Racing:Ronnie Wallace Hunters\' Chase
END:VEVENT
END:VCALENDAR
