BEGIN:VCALENDAR
VERSION:2.0
PRODID:-//horsealert.local//NONSGML kigkonsult.se iCalcreator 2.10.5//
CALSCALE:GREGORIAN
X-WR-TIMEZONE:Europe/Dublin
BEGIN:VTIMEZONE
TZID:Etc/GMT-1
BEGIN:STANDARD
DTSTART:20010101T000000
TZOFFSETFROM:+0100
TZOFFSETTO:+0100
TZNAME:GMT +01:00
END:STANDARD
END:VTIMEZONE
BEGIN:VEVENT
UID:20260425T194428CEST-98827c3OzT@horsealert.local
DTSTAMP:20260425T170428Z
CATEGORIES:Horse Alerts
DESCRIPTION:Fakenham Countryside Raceday 7th May Mares\' Maiden Open NH Fla
 t Race
DTSTART:20130401T171500
LOCATION:England
SUMMARY:Horse Racing:Fakenham Countryside Raceday 7th May Mares\' Maiden Op
 en NH Flat Race
END:VEVENT
END:VCALENDAR
