BEGIN:VCALENDAR
VERSION:2.0
PRODID:-//horsealert.local//NONSGML kigkonsult.se iCalcreator 2.10.5//
CALSCALE:GREGORIAN
X-WR-TIMEZONE:Europe/Dublin
BEGIN:VTIMEZONE
TZID:Etc/GMT-1
BEGIN:STANDARD
DTSTART:20010101T000000
TZOFFSETFROM:+0100
TZOFFSETTO:+0100
TZNAME:GMT +01:00
END:STANDARD
END:VTIMEZONE
BEGIN:VEVENT
UID:20260425T194356CEST-9896E8BKHX@horsealert.local
DTSTAMP:20260425T170456Z
CATEGORIES:Horse Alerts
DESCRIPTION:Fakenham Ladies Raceday 2nd June Novices\' Handicap Hurdle
DTSTART:20130401T151500
LOCATION:England
SUMMARY:Horse Racing:Fakenham Ladies Raceday 2nd June Novices\' Handicap Hu
 rdle
END:VEVENT
END:VCALENDAR
