BEGIN:VCALENDAR
VERSION:2.0
PRODID:-//horsealert.local//NONSGML kigkonsult.se iCalcreator 2.10.5//
CALSCALE:GREGORIAN
X-WR-TIMEZONE:Europe/Dublin
BEGIN:VTIMEZONE
TZID:Etc/GMT-1
BEGIN:STANDARD
DTSTART:20010101T000000
TZOFFSETFROM:+0100
TZOFFSETTO:+0100
TZNAME:GMT +01:00
END:STANDARD
END:VTIMEZONE
BEGIN:VEVENT
UID:20260425T194404CEST-4980095vvI@horsealert.local
DTSTAMP:20260425T170404Z
CATEGORIES:Horse Alerts
DESCRIPTION:Robert Hoare Novices\' Hunters\' Chase \(For The Robert Hoare M
 emorial Trophy\)
DTSTART:20130401T144500
LOCATION:England
SUMMARY:Horse Racing:Robert Hoare Novices\' Hunters\' Chase \(For The Rober
 t Hoare Memorial Trophy\)
END:VEVENT
END:VCALENDAR
