BEGIN:VCALENDAR
VERSION:2.0
PRODID:-//horsealert.local//NONSGML kigkonsult.se iCalcreator 2.10.5//
CALSCALE:GREGORIAN
X-WR-TIMEZONE:Europe/Dublin
BEGIN:VTIMEZONE
TZID:Etc/GMT-1
BEGIN:STANDARD
DTSTART:20010101T000000
TZOFFSETFROM:+0100
TZOFFSETTO:+0100
TZNAME:GMT +01:00
END:STANDARD
END:VTIMEZONE
BEGIN:VEVENT
UID:20260425T232249CEST-1120whin3z@horsealert.local
DTSTAMP:20260425T210449Z
CATEGORIES:Horse Alerts
DESCRIPTION:Check Out totepool Text Betting Now Standard Open NH Flat Race
DTSTART:20130331T171500
LOCATION:England
SUMMARY:Horse Racing:Check Out totepool Text Betting Now Standard Open NH F
 lat Race
END:VEVENT
END:VCALENDAR
