BEGIN:VCALENDAR
VERSION:2.0
PRODID:-//horsealert.local//NONSGML kigkonsult.se iCalcreator 2.10.5//
CALSCALE:GREGORIAN
X-WR-TIMEZONE:Europe/Dublin
BEGIN:VTIMEZONE
TZID:Etc/GMT-1
BEGIN:STANDARD
DTSTART:20010101T000000
TZOFFSETFROM:+0100
TZOFFSETTO:+0100
TZNAME:GMT +01:00
END:STANDARD
END:VTIMEZONE
BEGIN:VEVENT
UID:20260425T232242CEST-9277MvptZL@horsealert.local
DTSTAMP:20260425T210442Z
CATEGORIES:Horse Alerts
DESCRIPTION:Play Blackjack And Roulette At totepool.com Conditional Jockeys
 \' Handicap Hurdle \(Sunday 5k Bonus Race\)
DTSTART:20130331T173500
LOCATION:England
SUMMARY:Horse Racing:Play Blackjack And Roulette At totepool.com Conditiona
 l Jockeys\' Handicap Hurdle \(Sunday 5k Bonus Race\)
END:VEVENT
END:VCALENDAR
