BEGIN:VCALENDAR
VERSION:2.0
PRODID:-//horsealert.local//NONSGML kigkonsult.se iCalcreator 2.10.5//
CALSCALE:GREGORIAN
X-WR-TIMEZONE:Europe/Dublin
BEGIN:VTIMEZONE
TZID:Etc/GMT-1
BEGIN:STANDARD
DTSTART:20010101T000000
TZOFFSETFROM:+0100
TZOFFSETTO:+0100
TZNAME:GMT +01:00
END:STANDARD
END:VTIMEZONE
BEGIN:VEVENT
UID:20260425T232109CEST-9639J6uhaV@horsealert.local
DTSTAMP:20260425T210409Z
CATEGORIES:Horse Alerts
DESCRIPTION:Kingsize Pools At totepool.com Handicap \(Sunday 5k Bonus Race\
 )
DTSTART:20130331T165500
LOCATION:Scotland
SUMMARY:Horse Racing:Kingsize Pools At totepool.com Handicap \(Sunday 5k Bo
 nus Race\)
END:VEVENT
END:VCALENDAR
