BEGIN:VCALENDAR
VERSION:2.0
PRODID:-//horsealert.local//NONSGML kigkonsult.se iCalcreator 2.10.5//
CALSCALE:GREGORIAN
X-WR-TIMEZONE:Europe/Dublin
BEGIN:VTIMEZONE
TZID:Etc/GMT-1
BEGIN:STANDARD
DTSTART:20010101T000000
TZOFFSETFROM:+0100
TZOFFSETTO:+0100
TZNAME:GMT +01:00
END:STANDARD
END:VTIMEZONE
BEGIN:VEVENT
UID:20260425T232238CEST-1869W8BN0S@horsealert.local
DTSTAMP:20260425T210438Z
CATEGORIES:Horse Alerts
DESCRIPTION:Mon Romain Claiming Hurdle
DTSTART:20130326T153500
LOCATION:France
SUMMARY:Horse Racing:Mon Romain Claiming Hurdle
END:VEVENT
END:VCALENDAR
