BEGIN:VCALENDAR
VERSION:2.0
PRODID:-//horsealert.local//NONSGML kigkonsult.se iCalcreator 2.10.5//
CALSCALE:GREGORIAN
X-WR-TIMEZONE:Europe/Dublin
BEGIN:VTIMEZONE
TZID:Etc/GMT-1
BEGIN:STANDARD
DTSTART:20010101T000000
TZOFFSETFROM:+0100
TZOFFSETTO:+0100
TZNAME:GMT +01:00
END:STANDARD
END:VTIMEZONE
BEGIN:VEVENT
UID:20260425T232321CEST-2756CuV6ef@horsealert.local
DTSTAMP:20260425T210421Z
CATEGORIES:Horse Alerts
DESCRIPTION:\'TK\' Brennan You Will Be Missed Handicap
DTSTART:20130325T164000
LOCATION:England
SUMMARY:Horse Racing:\'TK\' Brennan You Will Be Missed Handicap
END:VEVENT
END:VCALENDAR
