BEGIN:VCALENDAR
VERSION:2.0
PRODID:-//horsealert.local//NONSGML kigkonsult.se iCalcreator 2.10.5//
CALSCALE:GREGORIAN
X-WR-TIMEZONE:Europe/Dublin
BEGIN:VTIMEZONE
TZID:Etc/GMT-1
BEGIN:STANDARD
DTSTART:20010101T000000
TZOFFSETFROM:+0100
TZOFFSETTO:+0100
TZNAME:GMT +01:00
END:STANDARD
END:VTIMEZONE
BEGIN:VEVENT
UID:20260425T232309CEST-3433azTFN1@horsealert.local
DTSTAMP:20260425T210409Z
CATEGORIES:Horse Alerts
DESCRIPTION:William Hill-No 1 Downloaded Betting App Handicap
DTSTART:20130323T140500
LOCATION:England
SUMMARY:Horse Racing:William Hill-No 1 Downloaded Betting App Handicap
END:VEVENT
END:VCALENDAR
