BEGIN:VCALENDAR
VERSION:2.0
PRODID:-//horsealert.local//NONSGML kigkonsult.se iCalcreator 2.10.5//
CALSCALE:GREGORIAN
X-WR-TIMEZONE:Europe/Dublin
BEGIN:VTIMEZONE
TZID:Etc/GMT-1
BEGIN:STANDARD
DTSTART:20010101T000000
TZOFFSETFROM:+0100
TZOFFSETTO:+0100
TZNAME:GMT +01:00
END:STANDARD
END:VTIMEZONE
BEGIN:VEVENT
UID:20260425T213736CEST-4422u0c9Hm@horsealert.local
DTSTAMP:20260425T190436Z
CATEGORIES:Horse Alerts
DESCRIPTION:Irish News Red Hand Top Tips Rated Race
DTSTART:20130322T175000
LOCATION:Eire
SUMMARY:Horse Racing:Irish News Red Hand Top Tips Rated Race
END:VEVENT
END:VCALENDAR
