BEGIN:VCALENDAR
VERSION:2.0
PRODID:-//horsealert.local//NONSGML kigkonsult.se iCalcreator 2.10.5//
CALSCALE:GREGORIAN
X-WR-TIMEZONE:Europe/Dublin
BEGIN:VTIMEZONE
TZID:Etc/GMT-1
BEGIN:STANDARD
DTSTART:20010101T000000
TZOFFSETFROM:+0100
TZOFFSETTO:+0100
TZNAME:GMT +01:00
END:STANDARD
END:VTIMEZONE
BEGIN:VEVENT
UID:20260425T213843CEST-4866j3S12a@horsealert.local
DTSTAMP:20260425T190443Z
CATEGORIES:Horse Alerts
DESCRIPTION:Happy 40th Birthday Rexine Burton Handicap Hurdle
DTSTART:20130318T164000
LOCATION:England
SUMMARY:Horse Racing:Happy 40th Birthday Rexine Burton Handicap Hurdle
END:VEVENT
END:VCALENDAR
