BEGIN:VCALENDAR
VERSION:2.0
PRODID:-//horsealert.local//NONSGML kigkonsult.se iCalcreator 2.10.5//
CALSCALE:GREGORIAN
X-WR-TIMEZONE:Europe/Dublin
BEGIN:VTIMEZONE
TZID:Etc/GMT-1
BEGIN:STANDARD
DTSTART:20010101T000000
TZOFFSETFROM:+0100
TZOFFSETTO:+0100
TZNAME:GMT +01:00
END:STANDARD
END:VTIMEZONE
BEGIN:VEVENT
UID:20260425T232126CEST-3606BriCUe@horsealert.local
DTSTAMP:20260425T210426Z
CATEGORIES:Horse Alerts
DESCRIPTION:Goffs Ready-To-Run Breeze-Up 27.03.13 Handicap
DTSTART:20130318T155000
LOCATION:England
SUMMARY:Horse Racing:Goffs Ready-To-Run Breeze-Up 27.03.13 Handicap
END:VEVENT
END:VCALENDAR
